BEGIN:VCALENDAR
VERSION:2.0
PRODID:-//Chinook Area of Narcotics Anonymous - ECPv6.15.20//NONSGML v1.0//EN
CALSCALE:GREGORIAN
METHOD:PUBLISH
X-ORIGINAL-URL:https://chinookna.org
X-WR-CALDESC:Events for Chinook Area of Narcotics Anonymous
REFRESH-INTERVAL;VALUE=DURATION:PT1H
X-Robots-Tag:noindex
X-PUBLISHED-TTL:PT1H
BEGIN:VTIMEZONE
TZID:America/Edmonton
BEGIN:DAYLIGHT
TZOFFSETFROM:-0700
TZOFFSETTO:-0600
TZNAME:MDT
DTSTART:20250309T090000
END:DAYLIGHT
BEGIN:STANDARD
TZOFFSETFROM:-0600
TZOFFSETTO:-0700
TZNAME:MST
DTSTART:20251102T080000
END:STANDARD
BEGIN:DAYLIGHT
TZOFFSETFROM:-0700
TZOFFSETTO:-0600
TZNAME:MDT
DTSTART:20260308T090000
END:DAYLIGHT
BEGIN:STANDARD
TZOFFSETFROM:-0600
TZOFFSETTO:-0700
TZNAME:MST
DTSTART:20261101T080000
END:STANDARD
BEGIN:DAYLIGHT
TZOFFSETFROM:-0700
TZOFFSETTO:-0600
TZNAME:MDT
DTSTART:20270314T090000
END:DAYLIGHT
BEGIN:STANDARD
TZOFFSETFROM:-0600
TZOFFSETTO:-0700
TZNAME:MST
DTSTART:20271107T080000
END:STANDARD
BEGIN:DAYLIGHT
TZOFFSETFROM:-0700
TZOFFSETTO:-0600
TZNAME:MDT
DTSTART:20280312T090000
END:DAYLIGHT
BEGIN:STANDARD
TZOFFSETFROM:-0600
TZOFFSETTO:-0700
TZNAME:MST
DTSTART:20281105T080000
END:STANDARD
END:VTIMEZONE
BEGIN:VEVENT
DTSTART;TZID=America/Edmonton:20260509T100000
DTEND;TZID=America/Edmonton:20260509T110000
DTSTAMP:20260420T042710
CREATED:20220805T094326Z
LAST-MODIFIED:20220805T094326Z
UID:12499-1778320800-1778324400@chinookna.org
SUMMARY:Literature Subcommittee
DESCRIPTION:The Chinook Area Literature Subcommittee meets the 2nd Saturday of each month via Zoom. (Zoom ID # is 837 994 8457) \nThe committee is always looking for new members to participate\, as the reliable distribution of NA books\, pamphlets\, keytags\, medallions\, etc provides a vital service to all groups within our area.
URL:https://chinookna.org/event/literature-subcommittee/2026-05-09/
ATTACH;FMTTYPE=image/jpeg:https://chinookna.org/wp-content/uploads/2022/08/NA-Literature.jpeg
ORGANIZER;CN="Literature Chair":MAILTO:asc.literature@chinookna.org
END:VEVENT
BEGIN:VEVENT
DTSTART;TZID=America/Edmonton:20260613T100000
DTEND;TZID=America/Edmonton:20260613T110000
DTSTAMP:20260420T042710
CREATED:20220805T094326Z
LAST-MODIFIED:20220805T094326Z
UID:12500-1781344800-1781348400@chinookna.org
SUMMARY:Literature Subcommittee
DESCRIPTION:The Chinook Area Literature Subcommittee meets the 2nd Saturday of each month via Zoom. (Zoom ID # is 837 994 8457) \nThe committee is always looking for new members to participate\, as the reliable distribution of NA books\, pamphlets\, keytags\, medallions\, etc provides a vital service to all groups within our area.
URL:https://chinookna.org/event/literature-subcommittee/2026-06-13/
ATTACH;FMTTYPE=image/jpeg:https://chinookna.org/wp-content/uploads/2022/08/NA-Literature.jpeg
ORGANIZER;CN="Literature Chair":MAILTO:asc.literature@chinookna.org
END:VEVENT
BEGIN:VEVENT
DTSTART;TZID=America/Edmonton:20260711T100000
DTEND;TZID=America/Edmonton:20260711T110000
DTSTAMP:20260420T042710
CREATED:20220805T094326Z
LAST-MODIFIED:20220805T094326Z
UID:12501-1783764000-1783767600@chinookna.org
SUMMARY:Literature Subcommittee
DESCRIPTION:The Chinook Area Literature Subcommittee meets the 2nd Saturday of each month via Zoom. (Zoom ID # is 837 994 8457) \nThe committee is always looking for new members to participate\, as the reliable distribution of NA books\, pamphlets\, keytags\, medallions\, etc provides a vital service to all groups within our area.
URL:https://chinookna.org/event/literature-subcommittee/2026-07-11/
ATTACH;FMTTYPE=image/jpeg:https://chinookna.org/wp-content/uploads/2022/08/NA-Literature.jpeg
ORGANIZER;CN="Literature Chair":MAILTO:asc.literature@chinookna.org
END:VEVENT
BEGIN:VEVENT
DTSTART;TZID=America/Edmonton:20260808T100000
DTEND;TZID=America/Edmonton:20260808T110000
DTSTAMP:20260420T042710
CREATED:20220805T094326Z
LAST-MODIFIED:20220805T094326Z
UID:12502-1786183200-1786186800@chinookna.org
SUMMARY:Literature Subcommittee
DESCRIPTION:The Chinook Area Literature Subcommittee meets the 2nd Saturday of each month via Zoom. (Zoom ID # is 837 994 8457) \nThe committee is always looking for new members to participate\, as the reliable distribution of NA books\, pamphlets\, keytags\, medallions\, etc provides a vital service to all groups within our area.
URL:https://chinookna.org/event/literature-subcommittee/2026-08-08/
ATTACH;FMTTYPE=image/jpeg:https://chinookna.org/wp-content/uploads/2022/08/NA-Literature.jpeg
ORGANIZER;CN="Literature Chair":MAILTO:asc.literature@chinookna.org
END:VEVENT
BEGIN:VEVENT
DTSTART;TZID=America/Edmonton:20260912T100000
DTEND;TZID=America/Edmonton:20260912T110000
DTSTAMP:20260420T042710
CREATED:20220805T094326Z
LAST-MODIFIED:20220805T094326Z
UID:12503-1789207200-1789210800@chinookna.org
SUMMARY:Literature Subcommittee
DESCRIPTION:The Chinook Area Literature Subcommittee meets the 2nd Saturday of each month via Zoom. (Zoom ID # is 837 994 8457) \nThe committee is always looking for new members to participate\, as the reliable distribution of NA books\, pamphlets\, keytags\, medallions\, etc provides a vital service to all groups within our area.
URL:https://chinookna.org/event/literature-subcommittee/2026-09-12/
ATTACH;FMTTYPE=image/jpeg:https://chinookna.org/wp-content/uploads/2022/08/NA-Literature.jpeg
ORGANIZER;CN="Literature Chair":MAILTO:asc.literature@chinookna.org
END:VEVENT
BEGIN:VEVENT
DTSTART;TZID=America/Edmonton:20261010T100000
DTEND;TZID=America/Edmonton:20261010T110000
DTSTAMP:20260420T042710
CREATED:20220805T094326Z
LAST-MODIFIED:20220805T094326Z
UID:12504-1791626400-1791630000@chinookna.org
SUMMARY:Literature Subcommittee
DESCRIPTION:The Chinook Area Literature Subcommittee meets the 2nd Saturday of each month via Zoom. (Zoom ID # is 837 994 8457) \nThe committee is always looking for new members to participate\, as the reliable distribution of NA books\, pamphlets\, keytags\, medallions\, etc provides a vital service to all groups within our area.
URL:https://chinookna.org/event/literature-subcommittee/2026-10-10/
ATTACH;FMTTYPE=image/jpeg:https://chinookna.org/wp-content/uploads/2022/08/NA-Literature.jpeg
ORGANIZER;CN="Literature Chair":MAILTO:asc.literature@chinookna.org
END:VEVENT
BEGIN:VEVENT
DTSTART;TZID=America/Edmonton:20261114T100000
DTEND;TZID=America/Edmonton:20261114T110000
DTSTAMP:20260420T042710
CREATED:20220805T094326Z
LAST-MODIFIED:20220805T094326Z
UID:12505-1794650400-1794654000@chinookna.org
SUMMARY:Literature Subcommittee
DESCRIPTION:The Chinook Area Literature Subcommittee meets the 2nd Saturday of each month via Zoom. (Zoom ID # is 837 994 8457) \nThe committee is always looking for new members to participate\, as the reliable distribution of NA books\, pamphlets\, keytags\, medallions\, etc provides a vital service to all groups within our area.
URL:https://chinookna.org/event/literature-subcommittee/2026-11-14/
ATTACH;FMTTYPE=image/jpeg:https://chinookna.org/wp-content/uploads/2022/08/NA-Literature.jpeg
ORGANIZER;CN="Literature Chair":MAILTO:asc.literature@chinookna.org
END:VEVENT
BEGIN:VEVENT
DTSTART;TZID=America/Edmonton:20261212T100000
DTEND;TZID=America/Edmonton:20261212T110000
DTSTAMP:20260420T042710
CREATED:20220805T094326Z
LAST-MODIFIED:20220805T094326Z
UID:12506-1797069600-1797073200@chinookna.org
SUMMARY:Literature Subcommittee
DESCRIPTION:The Chinook Area Literature Subcommittee meets the 2nd Saturday of each month via Zoom. (Zoom ID # is 837 994 8457) \nThe committee is always looking for new members to participate\, as the reliable distribution of NA books\, pamphlets\, keytags\, medallions\, etc provides a vital service to all groups within our area.
URL:https://chinookna.org/event/literature-subcommittee/2026-12-12/
ATTACH;FMTTYPE=image/jpeg:https://chinookna.org/wp-content/uploads/2022/08/NA-Literature.jpeg
ORGANIZER;CN="Literature Chair":MAILTO:asc.literature@chinookna.org
END:VEVENT
BEGIN:VEVENT
DTSTART;TZID=America/Edmonton:20270109T100000
DTEND;TZID=America/Edmonton:20270109T110000
DTSTAMP:20260420T042710
CREATED:20220805T094326Z
LAST-MODIFIED:20220805T094326Z
UID:12507-1799488800-1799492400@chinookna.org
SUMMARY:Literature Subcommittee
DESCRIPTION:The Chinook Area Literature Subcommittee meets the 2nd Saturday of each month via Zoom. (Zoom ID # is 837 994 8457) \nThe committee is always looking for new members to participate\, as the reliable distribution of NA books\, pamphlets\, keytags\, medallions\, etc provides a vital service to all groups within our area.
URL:https://chinookna.org/event/literature-subcommittee/2027-01-09/
ATTACH;FMTTYPE=image/jpeg:https://chinookna.org/wp-content/uploads/2022/08/NA-Literature.jpeg
ORGANIZER;CN="Literature Chair":MAILTO:asc.literature@chinookna.org
END:VEVENT
BEGIN:VEVENT
DTSTART;TZID=America/Edmonton:20270213T100000
DTEND;TZID=America/Edmonton:20270213T110000
DTSTAMP:20260420T042710
CREATED:20220805T094326Z
LAST-MODIFIED:20220805T094326Z
UID:12508-1802512800-1802516400@chinookna.org
SUMMARY:Literature Subcommittee
DESCRIPTION:The Chinook Area Literature Subcommittee meets the 2nd Saturday of each month via Zoom. (Zoom ID # is 837 994 8457) \nThe committee is always looking for new members to participate\, as the reliable distribution of NA books\, pamphlets\, keytags\, medallions\, etc provides a vital service to all groups within our area.
URL:https://chinookna.org/event/literature-subcommittee/2027-02-13/
ATTACH;FMTTYPE=image/jpeg:https://chinookna.org/wp-content/uploads/2022/08/NA-Literature.jpeg
ORGANIZER;CN="Literature Chair":MAILTO:asc.literature@chinookna.org
END:VEVENT
END:VCALENDAR