BEGIN:VCALENDAR
VERSION:2.0
PRODID:-//Chinook Area of Narcotics Anonymous - ECPv6.15.20//NONSGML v1.0//EN
CALSCALE:GREGORIAN
METHOD:PUBLISH
X-ORIGINAL-URL:https://chinookna.org
X-WR-CALDESC:Events for Chinook Area of Narcotics Anonymous
REFRESH-INTERVAL;VALUE=DURATION:PT1H
X-Robots-Tag:noindex
X-PUBLISHED-TTL:PT1H
BEGIN:VTIMEZONE
TZID:America/Edmonton
BEGIN:DAYLIGHT
TZOFFSETFROM:-0700
TZOFFSETTO:-0600
TZNAME:MDT
DTSTART:20240310T090000
END:DAYLIGHT
BEGIN:STANDARD
TZOFFSETFROM:-0600
TZOFFSETTO:-0700
TZNAME:MST
DTSTART:20241103T080000
END:STANDARD
BEGIN:DAYLIGHT
TZOFFSETFROM:-0700
TZOFFSETTO:-0600
TZNAME:MDT
DTSTART:20250309T090000
END:DAYLIGHT
BEGIN:STANDARD
TZOFFSETFROM:-0600
TZOFFSETTO:-0700
TZNAME:MST
DTSTART:20251102T080000
END:STANDARD
BEGIN:DAYLIGHT
TZOFFSETFROM:-0700
TZOFFSETTO:-0600
TZNAME:MDT
DTSTART:20260308T090000
END:DAYLIGHT
BEGIN:STANDARD
TZOFFSETFROM:-0600
TZOFFSETTO:-0700
TZNAME:MST
DTSTART:20261101T080000
END:STANDARD
BEGIN:DAYLIGHT
TZOFFSETFROM:-0700
TZOFFSETTO:-0600
TZNAME:MDT
DTSTART:20270314T090000
END:DAYLIGHT
BEGIN:STANDARD
TZOFFSETFROM:-0600
TZOFFSETTO:-0700
TZNAME:MST
DTSTART:20271107T080000
END:STANDARD
END:VTIMEZONE
BEGIN:VEVENT
DTSTART;TZID=America/Edmonton:20251229T073000
DTEND;TZID=America/Edmonton:20251229T080000
DTSTAMP:20260420T080307
CREATED:20251126T211402Z
LAST-MODIFIED:20251202T182058Z
UID:11040-1766993400-1766995200@chinookna.org
SUMMARY:Serenity at Sunrise
DESCRIPTION:A Morning Meditation Gathering Inspired by Just for Today \n\nOrganized in cooperation with the Al-Sask Region and the Chinook Area Convention Committee\n\nStarting December 1\, 2025\nEvery day · 7:30 to 7:50AM MST · Online \nWe’ll read Just for Today together and then share 10 peaceful minutes of silence — connecting with the god of our understanding\, with each other\, and with a new beginning every morning. \nEveryone is welcome.\nYou do not have to join the challenge to meditate with us.\n7th tradition will be collected to support the ARCNA/CACNA 2026 Convention – May 15\, 2026 \nThe Serenity at Sunrise Challenge \nDec 1\, 2025 → May 15\, 2026 \nFor $20\, members may enter the challenge and track their attendance at our morning meditations. \nWhoever attends the most wins: \nInner peace: Delivered directly from a loving Higher Power; shipping times may vary\, influenced by practicing principles in all our affairs; dependent on step work; subject to life on life’s terms; non-refundable and non-transferable. \nA special prize: Presented at the ARCNA/CACNA 2026 Convention — May 15\, 2026 \nAll proceeds support ARCNA/CACNA 2026 through the 7th Tradition. \nTo Enter the Challenge:\nSend $20 to: conv.treasurer@chinookna.org\nInclude your first name + last initial\, along with the word ‘meditation’ in the message. \n“I can live for a moment\, and the moment is now.”\n— Just for Today: Daily Meditations for Recovering Addicts\, Narcotics Anonymous
URL:https://chinookna.org/event/serenity-at-sunrise/2025-12-29/
LOCATION:Zoom 837 994 8457\, Canada
ATTACH;FMTTYPE=image/jpeg:https://chinookna.org/wp-content/uploads/2025/11/Serenity-at-Sunrise-V7a.jpg
END:VEVENT
BEGIN:VEVENT
DTSTART;TZID=America/Edmonton:20251230T073000
DTEND;TZID=America/Edmonton:20251230T080000
DTSTAMP:20260420T080307
CREATED:20251126T211402Z
LAST-MODIFIED:20251202T182058Z
UID:11041-1767079800-1767081600@chinookna.org
SUMMARY:Serenity at Sunrise
DESCRIPTION:A Morning Meditation Gathering Inspired by Just for Today \n\nOrganized in cooperation with the Al-Sask Region and the Chinook Area Convention Committee\n\nStarting December 1\, 2025\nEvery day · 7:30 to 7:50AM MST · Online \nWe’ll read Just for Today together and then share 10 peaceful minutes of silence — connecting with the god of our understanding\, with each other\, and with a new beginning every morning. \nEveryone is welcome.\nYou do not have to join the challenge to meditate with us.\n7th tradition will be collected to support the ARCNA/CACNA 2026 Convention – May 15\, 2026 \nThe Serenity at Sunrise Challenge \nDec 1\, 2025 → May 15\, 2026 \nFor $20\, members may enter the challenge and track their attendance at our morning meditations. \nWhoever attends the most wins: \nInner peace: Delivered directly from a loving Higher Power; shipping times may vary\, influenced by practicing principles in all our affairs; dependent on step work; subject to life on life’s terms; non-refundable and non-transferable. \nA special prize: Presented at the ARCNA/CACNA 2026 Convention — May 15\, 2026 \nAll proceeds support ARCNA/CACNA 2026 through the 7th Tradition. \nTo Enter the Challenge:\nSend $20 to: conv.treasurer@chinookna.org\nInclude your first name + last initial\, along with the word ‘meditation’ in the message. \n“I can live for a moment\, and the moment is now.”\n— Just for Today: Daily Meditations for Recovering Addicts\, Narcotics Anonymous
URL:https://chinookna.org/event/serenity-at-sunrise/2025-12-30/
LOCATION:Zoom 837 994 8457\, Canada
ATTACH;FMTTYPE=image/jpeg:https://chinookna.org/wp-content/uploads/2025/11/Serenity-at-Sunrise-V7a.jpg
END:VEVENT
BEGIN:VEVENT
DTSTART;TZID=America/Edmonton:20251231T073000
DTEND;TZID=America/Edmonton:20251231T080000
DTSTAMP:20260420T080307
CREATED:20251126T211402Z
LAST-MODIFIED:20251202T182058Z
UID:11042-1767166200-1767168000@chinookna.org
SUMMARY:Serenity at Sunrise
DESCRIPTION:A Morning Meditation Gathering Inspired by Just for Today \n\nOrganized in cooperation with the Al-Sask Region and the Chinook Area Convention Committee\n\nStarting December 1\, 2025\nEvery day · 7:30 to 7:50AM MST · Online \nWe’ll read Just for Today together and then share 10 peaceful minutes of silence — connecting with the god of our understanding\, with each other\, and with a new beginning every morning. \nEveryone is welcome.\nYou do not have to join the challenge to meditate with us.\n7th tradition will be collected to support the ARCNA/CACNA 2026 Convention – May 15\, 2026 \nThe Serenity at Sunrise Challenge \nDec 1\, 2025 → May 15\, 2026 \nFor $20\, members may enter the challenge and track their attendance at our morning meditations. \nWhoever attends the most wins: \nInner peace: Delivered directly from a loving Higher Power; shipping times may vary\, influenced by practicing principles in all our affairs; dependent on step work; subject to life on life’s terms; non-refundable and non-transferable. \nA special prize: Presented at the ARCNA/CACNA 2026 Convention — May 15\, 2026 \nAll proceeds support ARCNA/CACNA 2026 through the 7th Tradition. \nTo Enter the Challenge:\nSend $20 to: conv.treasurer@chinookna.org\nInclude your first name + last initial\, along with the word ‘meditation’ in the message. \n“I can live for a moment\, and the moment is now.”\n— Just for Today: Daily Meditations for Recovering Addicts\, Narcotics Anonymous
URL:https://chinookna.org/event/serenity-at-sunrise/2025-12-31/
LOCATION:Zoom 837 994 8457\, Canada
ATTACH;FMTTYPE=image/jpeg:https://chinookna.org/wp-content/uploads/2025/11/Serenity-at-Sunrise-V7a.jpg
END:VEVENT
BEGIN:VEVENT
DTSTART;TZID=America/Edmonton:20251231T200000
DTEND;TZID=America/Edmonton:20260101T010000
DTSTAMP:20260420T080307
CREATED:20251114T221510Z
LAST-MODIFIED:20251114T221510Z
UID:10869-1767211200-1767229200@chinookna.org
SUMMARY:New Year's Eve Dance and Potluck
DESCRIPTION:Snacks\, appetizers brought by those who attend.\nSparkling juice to toast with at midnight.\n50/50 tickets sold\nGames and Fellowship\, our favourite noisiest game (spoons)\nDress up if you wish.\nDance music provided.
URL:https://chinookna.org/event/new-years-eve-dance-and-potluck/
LOCATION:Fifth Avenue Memorial United Church\, 476 - 4 St SE\, Medicine Hat\, Alberta\, T1A 0K9\, Canada
ORGANIZER;CN="Medicine Hat Activities committee":MAILTO:gillianrowan63@yahoo.ca
END:VEVENT
BEGIN:VEVENT
DTSTART;TZID=America/Edmonton:20260101T073000
DTEND;TZID=America/Edmonton:20260101T080000
DTSTAMP:20260420T080307
CREATED:20251126T211402Z
LAST-MODIFIED:20251202T182058Z
UID:11043-1767252600-1767254400@chinookna.org
SUMMARY:Serenity at Sunrise
DESCRIPTION:A Morning Meditation Gathering Inspired by Just for Today \n\nOrganized in cooperation with the Al-Sask Region and the Chinook Area Convention Committee\n\nStarting December 1\, 2025\nEvery day · 7:30 to 7:50AM MST · Online \nWe’ll read Just for Today together and then share 10 peaceful minutes of silence — connecting with the god of our understanding\, with each other\, and with a new beginning every morning. \nEveryone is welcome.\nYou do not have to join the challenge to meditate with us.\n7th tradition will be collected to support the ARCNA/CACNA 2026 Convention – May 15\, 2026 \nThe Serenity at Sunrise Challenge \nDec 1\, 2025 → May 15\, 2026 \nFor $20\, members may enter the challenge and track their attendance at our morning meditations. \nWhoever attends the most wins: \nInner peace: Delivered directly from a loving Higher Power; shipping times may vary\, influenced by practicing principles in all our affairs; dependent on step work; subject to life on life’s terms; non-refundable and non-transferable. \nA special prize: Presented at the ARCNA/CACNA 2026 Convention — May 15\, 2026 \nAll proceeds support ARCNA/CACNA 2026 through the 7th Tradition. \nTo Enter the Challenge:\nSend $20 to: conv.treasurer@chinookna.org\nInclude your first name + last initial\, along with the word ‘meditation’ in the message. \n“I can live for a moment\, and the moment is now.”\n— Just for Today: Daily Meditations for Recovering Addicts\, Narcotics Anonymous
URL:https://chinookna.org/event/serenity-at-sunrise/2026-01-01/
LOCATION:Zoom 837 994 8457\, Canada
ATTACH;FMTTYPE=image/jpeg:https://chinookna.org/wp-content/uploads/2025/11/Serenity-at-Sunrise-V7a.jpg
END:VEVENT
BEGIN:VEVENT
DTSTART;TZID=America/Edmonton:20260102T073000
DTEND;TZID=America/Edmonton:20260102T080000
DTSTAMP:20260420T080307
CREATED:20251126T211402Z
LAST-MODIFIED:20251202T182059Z
UID:11044-1767339000-1767340800@chinookna.org
SUMMARY:Serenity at Sunrise
DESCRIPTION:A Morning Meditation Gathering Inspired by Just for Today \n\nOrganized in cooperation with the Al-Sask Region and the Chinook Area Convention Committee\n\nStarting December 1\, 2025\nEvery day · 7:30 to 7:50AM MST · Online \nWe’ll read Just for Today together and then share 10 peaceful minutes of silence — connecting with the god of our understanding\, with each other\, and with a new beginning every morning. \nEveryone is welcome.\nYou do not have to join the challenge to meditate with us.\n7th tradition will be collected to support the ARCNA/CACNA 2026 Convention – May 15\, 2026 \nThe Serenity at Sunrise Challenge \nDec 1\, 2025 → May 15\, 2026 \nFor $20\, members may enter the challenge and track their attendance at our morning meditations. \nWhoever attends the most wins: \nInner peace: Delivered directly from a loving Higher Power; shipping times may vary\, influenced by practicing principles in all our affairs; dependent on step work; subject to life on life’s terms; non-refundable and non-transferable. \nA special prize: Presented at the ARCNA/CACNA 2026 Convention — May 15\, 2026 \nAll proceeds support ARCNA/CACNA 2026 through the 7th Tradition. \nTo Enter the Challenge:\nSend $20 to: conv.treasurer@chinookna.org\nInclude your first name + last initial\, along with the word ‘meditation’ in the message. \n“I can live for a moment\, and the moment is now.”\n— Just for Today: Daily Meditations for Recovering Addicts\, Narcotics Anonymous
URL:https://chinookna.org/event/serenity-at-sunrise/2026-01-02/
LOCATION:Zoom 837 994 8457\, Canada
ATTACH;FMTTYPE=image/jpeg:https://chinookna.org/wp-content/uploads/2025/11/Serenity-at-Sunrise-V7a.jpg
END:VEVENT
BEGIN:VEVENT
DTSTART;TZID=America/Edmonton:20260103T073000
DTEND;TZID=America/Edmonton:20260103T080000
DTSTAMP:20260420T080307
CREATED:20251126T211402Z
LAST-MODIFIED:20251202T182100Z
UID:11045-1767425400-1767427200@chinookna.org
SUMMARY:Serenity at Sunrise
DESCRIPTION:A Morning Meditation Gathering Inspired by Just for Today \n\nOrganized in cooperation with the Al-Sask Region and the Chinook Area Convention Committee\n\nStarting December 1\, 2025\nEvery day · 7:30 to 7:50AM MST · Online \nWe’ll read Just for Today together and then share 10 peaceful minutes of silence — connecting with the god of our understanding\, with each other\, and with a new beginning every morning. \nEveryone is welcome.\nYou do not have to join the challenge to meditate with us.\n7th tradition will be collected to support the ARCNA/CACNA 2026 Convention – May 15\, 2026 \nThe Serenity at Sunrise Challenge \nDec 1\, 2025 → May 15\, 2026 \nFor $20\, members may enter the challenge and track their attendance at our morning meditations. \nWhoever attends the most wins: \nInner peace: Delivered directly from a loving Higher Power; shipping times may vary\, influenced by practicing principles in all our affairs; dependent on step work; subject to life on life’s terms; non-refundable and non-transferable. \nA special prize: Presented at the ARCNA/CACNA 2026 Convention — May 15\, 2026 \nAll proceeds support ARCNA/CACNA 2026 through the 7th Tradition. \nTo Enter the Challenge:\nSend $20 to: conv.treasurer@chinookna.org\nInclude your first name + last initial\, along with the word ‘meditation’ in the message. \n“I can live for a moment\, and the moment is now.”\n— Just for Today: Daily Meditations for Recovering Addicts\, Narcotics Anonymous
URL:https://chinookna.org/event/serenity-at-sunrise/2026-01-03/
LOCATION:Zoom 837 994 8457\, Canada
ATTACH;FMTTYPE=image/jpeg:https://chinookna.org/wp-content/uploads/2025/11/Serenity-at-Sunrise-V7a.jpg
END:VEVENT
BEGIN:VEVENT
DTSTART;TZID=America/Edmonton:20260104T073000
DTEND;TZID=America/Edmonton:20260104T080000
DTSTAMP:20260420T080307
CREATED:20251126T211402Z
LAST-MODIFIED:20251202T182100Z
UID:11046-1767511800-1767513600@chinookna.org
SUMMARY:Serenity at Sunrise
DESCRIPTION:A Morning Meditation Gathering Inspired by Just for Today \n\nOrganized in cooperation with the Al-Sask Region and the Chinook Area Convention Committee\n\nStarting December 1\, 2025\nEvery day · 7:30 to 7:50AM MST · Online \nWe’ll read Just for Today together and then share 10 peaceful minutes of silence — connecting with the god of our understanding\, with each other\, and with a new beginning every morning. \nEveryone is welcome.\nYou do not have to join the challenge to meditate with us.\n7th tradition will be collected to support the ARCNA/CACNA 2026 Convention – May 15\, 2026 \nThe Serenity at Sunrise Challenge \nDec 1\, 2025 → May 15\, 2026 \nFor $20\, members may enter the challenge and track their attendance at our morning meditations. \nWhoever attends the most wins: \nInner peace: Delivered directly from a loving Higher Power; shipping times may vary\, influenced by practicing principles in all our affairs; dependent on step work; subject to life on life’s terms; non-refundable and non-transferable. \nA special prize: Presented at the ARCNA/CACNA 2026 Convention — May 15\, 2026 \nAll proceeds support ARCNA/CACNA 2026 through the 7th Tradition. \nTo Enter the Challenge:\nSend $20 to: conv.treasurer@chinookna.org\nInclude your first name + last initial\, along with the word ‘meditation’ in the message. \n“I can live for a moment\, and the moment is now.”\n— Just for Today: Daily Meditations for Recovering Addicts\, Narcotics Anonymous
URL:https://chinookna.org/event/serenity-at-sunrise/2026-01-04/
LOCATION:Zoom 837 994 8457\, Canada
ATTACH;FMTTYPE=image/jpeg:https://chinookna.org/wp-content/uploads/2025/11/Serenity-at-Sunrise-V7a.jpg
END:VEVENT
END:VCALENDAR