BEGIN:VCALENDAR
VERSION:2.0
PRODID:-//Chinook Area of Narcotics Anonymous - ECPv6.15.20//NONSGML v1.0//EN
CALSCALE:GREGORIAN
METHOD:PUBLISH
X-ORIGINAL-URL:https://chinookna.org
X-WR-CALDESC:Events for Chinook Area of Narcotics Anonymous
REFRESH-INTERVAL;VALUE=DURATION:PT1H
X-Robots-Tag:noindex
X-PUBLISHED-TTL:PT1H
BEGIN:VTIMEZONE
TZID:America/Edmonton
BEGIN:DAYLIGHT
TZOFFSETFROM:-0700
TZOFFSETTO:-0600
TZNAME:MDT
DTSTART:20240310T090000
END:DAYLIGHT
BEGIN:STANDARD
TZOFFSETFROM:-0600
TZOFFSETTO:-0700
TZNAME:MST
DTSTART:20241103T080000
END:STANDARD
BEGIN:DAYLIGHT
TZOFFSETFROM:-0700
TZOFFSETTO:-0600
TZNAME:MDT
DTSTART:20250309T090000
END:DAYLIGHT
BEGIN:STANDARD
TZOFFSETFROM:-0600
TZOFFSETTO:-0700
TZNAME:MST
DTSTART:20251102T080000
END:STANDARD
BEGIN:DAYLIGHT
TZOFFSETFROM:-0700
TZOFFSETTO:-0600
TZNAME:MDT
DTSTART:20260308T090000
END:DAYLIGHT
BEGIN:STANDARD
TZOFFSETFROM:-0600
TZOFFSETTO:-0700
TZNAME:MST
DTSTART:20261101T080000
END:STANDARD
END:VTIMEZONE
BEGIN:VEVENT
DTSTART;TZID=America/Edmonton:20251101T130000
DTEND;TZID=America/Edmonton:20251101T170000
DTSTAMP:20260420T042809
CREATED:20251020T184810Z
LAST-MODIFIED:20251020T184810Z
UID:10618-1762002000-1762016400@chinookna.org
SUMMARY:Amazing Race
DESCRIPTION:Please see poster for details. \nLocation: Sandy Beach.\n4500 14A St SW\nCalgary AB T2T 2V8\nCanada \nTime: 1pm-5pm.\nDate: November 1st 2025 \n$15.00 team registration due by\, October 25th 2025.
URL:https://chinookna.org/event/amazing-race/
LOCATION:Sandy Beach\, 4500 14A St SW Calgary AB T2T 2V8 Canada
ORGANIZER;CN="Activities Chair":MAILTO:asc.events@chinookna.org
END:VEVENT
BEGIN:VEVENT
DTSTART;TZID=America/Edmonton:20251102T130000
DTEND;TZID=America/Edmonton:20251102T143000
DTSTAMP:20260420T042809
CREATED:20251024T193545Z
LAST-MODIFIED:20251024T193545Z
UID:10683-1762088400-1762093800@chinookna.org
SUMMARY:ARCACNA 2026 Convention Committee
DESCRIPTION:Please join the ARCACNA 2026 Convention committee for their first committee meeting on Sunday Nov 2nd at 1:00 pm at the Radisson Hotel and Conference Centre at 6620\, 36 St NE. You can also join via Zoom\, zoom ID 837 994 8457. This will be a combined convention with ALSASK and the Chinook Area. Great way to be of service and have fun!
URL:https://chinookna.org/event/arcacna-2026-convention-committee/
LOCATION:Radisson Hotel and Conference Centre\, 6620\, 36 St NE\, Calgary\, AB\, T3J 4H3\, Canada
ORGANIZER;CN="Convention Chair":MAILTO:convention@chinookna.org
END:VEVENT
BEGIN:VEVENT
DTSTART;TZID=America/Edmonton:20251105T190000
DTEND;TZID=America/Edmonton:20251105T200000
DTSTAMP:20260420T042809
CREATED:20220805T093933Z
LAST-MODIFIED:20260304T234216Z
UID:8445-1762369200-1762372800@chinookna.org
SUMMARY:Hospitals and Institutions (H&I) Subcommittee Meeting
DESCRIPTION:Monthly hybrid meeting for the Chinook Area H&I Committee.\nZoom ID# is 837 994 8457
URL:https://chinookna.org/event/hospitals-and-institutions-subcommittee/2025-11-05/
LOCATION:Emmanuel Community Church\, 3303 28th St SE\, Calgary\, Alberta\, T2B 2Z3\, Canada
ORGANIZER;CN="H&I Chair":MAILTO:hospital.institutions@chinookna.org
END:VEVENT
BEGIN:VEVENT
DTSTART;TZID=America/Edmonton:20251108T100000
DTEND;TZID=America/Edmonton:20251108T110000
DTSTAMP:20260420T042809
CREATED:20220805T094326Z
LAST-MODIFIED:20260225T035746Z
UID:8484-1762596000-1762599600@chinookna.org
SUMMARY:Literature Subcommittee
DESCRIPTION:The Chinook Area Literature Subcommittee meets the 2nd Saturday of each month via Zoom. (Zoom ID # is 837 994 8457) \nThe committee is always looking for new members to participate\, as the reliable distribution of NA books\, pamphlets\, keytags\, medallions\, etc provides a vital service to all groups within our area.
URL:https://chinookna.org/event/literature-subcommittee/2025-11-08/
LOCATION:Alberta
ATTACH;FMTTYPE=image/jpeg:https://chinookna.org/wp-content/uploads/2022/08/NA-Literature.jpeg
ORGANIZER;CN="Literature Chair":MAILTO:asc.literature@chinookna.org
END:VEVENT
BEGIN:VEVENT
DTSTART;TZID=America/Edmonton:20251108T123000
DTEND;TZID=America/Edmonton:20251108T140000
DTSTAMP:20260420T042809
CREATED:20240717T152740Z
LAST-MODIFIED:20240717T152740Z
UID:11423-1762605000-1762610400@chinookna.org
SUMMARY:Literature Pickup Day - PLEASE CONFIRM PICKUP ARRANGEMENTS
DESCRIPTION:The Literature committee will be available this day to make arrangements for groups to pickup their literature. As Committee members may be at the Literature Depot at varying times\, group members should be sure to confirm the  specific time prior to picking up their orders. NOTE: Actual pickup hours are subject to change
URL:https://chinookna.org/event/literature-pickup-day-2/2025-11-08/
LOCATION:Alberta
ATTACH;FMTTYPE=image/png:https://chinookna.org/wp-content/uploads/2024/07/IMG_0416.png
END:VEVENT
BEGIN:VEVENT
DTSTART;TZID=America/Edmonton:20251108T123000
DTEND;TZID=America/Edmonton:20251108T140000
DTSTAMP:20260420T042809
CREATED:20250828T012710Z
LAST-MODIFIED:20260225T035220Z
UID:12388-1762605000-1762610400@chinookna.org
SUMMARY:Literature Pickup Day - PLEASE CONFIRM PICKUP ARRANGEMENTS
DESCRIPTION:The Literature committee will be available this day to make arrangements for groups to pickup their literature. As Committee members may be at the Literature Depot at varying times\, group members should be sure to confirm the  specific time prior to picking up their orders. NOTE: Actual pickup hours are subject to change.
URL:https://chinookna.org/event/literature-pickup-day-please-confirm-pickup-arrangements/2025-11-08/
LOCATION:Alberta
ATTACH;FMTTYPE=image/png:https://chinookna.org/wp-content/uploads/2024/07/IMG_0416.png
END:VEVENT
BEGIN:VEVENT
DTSTART;TZID=America/Edmonton:20251112T190000
DTEND;TZID=America/Edmonton:20251112T203000
DTSTAMP:20260420T042809
CREATED:20220805T094459Z
LAST-MODIFIED:20260304T234319Z
UID:8465-1762974000-1762979400@chinookna.org
SUMMARY:Public Relations Subcommittee
DESCRIPTION:Monthly Zoom meeting of the Public Relations (PR) Subcommittee. \nMembers may join via Zoom ID# 837 994 8457
URL:https://chinookna.org/event/public-relations-subcommittee/2025-11-12/
LOCATION:Zoom 837 994 8457\, Canada
ORGANIZER;CN="Public Relations Chair":MAILTO:public.relations@chinookna.org
END:VEVENT
BEGIN:VEVENT
DTSTART;TZID=America/Edmonton:20251115T100000
DTEND;TZID=America/Edmonton:20251115T170000
DTSTAMP:20260420T042809
CREATED:20251016T221538Z
LAST-MODIFIED:20251023T021934Z
UID:10606-1763200800-1763226000@chinookna.org
SUMMARY:Chinook Area - Annual General Meeting (AGM)
DESCRIPTION:Each year\, the Chinook Area Service Committee holds an Annual General Meeting (AGM) to elect new trusted servants to the various open service positions. This year’s AGM will be held on Saturday\, November 15th at 11:00AM. This will be a hybrid event; the in-person meeting will be hosted from the Calgary YWCA headquarters in Inglewood\, with the option for members to join virtually via Zoom. https://us04web.zoom.us/j/8379948457 \nThere are many positions open for the upcoming year\, and we encourage members to join us in the spirit of NA service! Positions up for nomination are: \nADMIN COMMITTEE: ASC CHAIR\, ASC VICE CHAIR\, SECRETARY\, RCM and RCM-ALT\nSUB-COMMITTEE CHAIRS: ACTIVITIES\, HOSPITALS & INSTITUTIONS (H&I)\, LITERATURE\, OUTREACH\, PUBLIC RELATIONS (PR) \nA document that describes the various ASC positions may be viewed HERE. \nSuggested clean time requirements are as follows:\nASC Chair: 3 years – Vice Chair: 2 years – Treasurer: 3 years – Secretary: 2 years – RCM: 5 years – RCM Alt: 4 years\nSub-Committee Chairs: 2 Years\, EXCEPT… Literature Committee Chair: 5 years \nWe hope you can join us!
URL:https://chinookna.org/event/chinook-area-annual-general-meeting-agm-2/
LOCATION:YWCA Calgary- Main Boardroom\, 1715 17 Ave SE\, Calgary\, AB\, T2G 5J1\, Canada
ORGANIZER;CN="Area Service Chair":MAILTO:asc.chair@chinookna.org
END:VEVENT
BEGIN:VEVENT
DTSTART;TZID=America/Edmonton:20251122T123000
DTEND;TZID=America/Edmonton:20251122T140000
DTSTAMP:20260420T042809
CREATED:20250828T012710Z
LAST-MODIFIED:20260225T035220Z
UID:11405-1763814600-1763820000@chinookna.org
SUMMARY:Literature Pickup Day - PLEASE CONFIRM PICKUP ARRANGEMENTS
DESCRIPTION:The Literature committee will be available this day to make arrangements for groups to pickup their literature. As Committee members may be at the Literature Depot at varying times\, group members should be sure to confirm the  specific time prior to picking up their orders. NOTE: Actual pickup hours are subject to change.
URL:https://chinookna.org/event/literature-pickup-day-please-confirm-pickup-arrangements/2025-11-22/
LOCATION:Alberta
ATTACH;FMTTYPE=image/png:https://chinookna.org/wp-content/uploads/2024/07/IMG_0416.png
END:VEVENT
BEGIN:VEVENT
DTSTART;TZID=America/Edmonton:20251122T190000
DTEND;TZID=America/Edmonton:20251122T230000
DTSTAMP:20260420T042809
CREATED:20251026T003320Z
LAST-MODIFIED:20251026T003320Z
UID:10691-1763838000-1763852400@chinookna.org
SUMMARY:Talent Show
DESCRIPTION:Members from NA with talent in music\, reading\, poetry\, singing\, acting\, skits will be slotted into a timetable to perform for fellow addicts and there families.\nA kid friendly night of entertainment and clean good fun.\nSign up will be via email at: gillianrowan63@yahoo.ca or by texting 403-875-9287\nPopcorn\, coffee and water provided.\na Seventh will be collected to help pay for the facility.
URL:https://chinookna.org/event/talent-show/
LOCATION:Fifth Avenue Memorial United Church\, 476 - 4 St SE\, Medicine Hat\, Alberta\, T1A 0K9\, Canada
END:VEVENT
BEGIN:VEVENT
DTSTART;TZID=America/Edmonton:20251123T130000
DTEND;TZID=America/Edmonton:20251123T143000
DTSTAMP:20260420T042809
CREATED:20251108T221851Z
LAST-MODIFIED:20251116T203326Z
UID:10810-1763902800-1763908200@chinookna.org
SUMMARY:ARCACNA Convention Subcommittee Meeting
DESCRIPTION:The next ARCACNA 2026 Convention subcommittee meeting  will be held on Sunday\, November 23rd at 1:00pm. \nWe will be meeting in person at Suite 800\, 5940 MacLeod Tr SW and via the Zoom link (Zoom ID is 837 994 8457). \nDoors will open at approximately 12:45PM; committee members may call 403-401-6684 in the event they arrive late and need to be let in.
URL:https://chinookna.org/event/arcacna-convention-subcommittee-meeting/
LOCATION:800\, 5940 MacLeod Trail SW\, 800\, 5940 MacLeod Trail SW\, Calgary\, Alberta\, T2H 2G4\, Canada
ORGANIZER;CN="Convention Chair":MAILTO:convention@chinookna.org
END:VEVENT
BEGIN:VEVENT
DTSTART;TZID=America/Edmonton:20251125T180000
DTEND;TZID=America/Edmonton:20251125T210000
DTSTAMP:20260420T042809
CREATED:20251023T031621Z
LAST-MODIFIED:20260304T235009Z
UID:10651-1764093600-1764104400@chinookna.org
SUMMARY:Area Service Committee (ASC)
DESCRIPTION:The main ASC meeting commences at 6:30PM on the 4th Tuesday of each month. (Excluding December) This is a hybrid meeting\, held in person at the Emmanuel Community Church and virtually on Zoom. (Zoom ID is 837 994 8457) \nThe Admin Committee\, consisting of the ASC Chair\, Vice-Chair\, Treasurer\, Secretary & Regional Committee Member (RCM) meets at 6:00PM\, prior to the main ASC meeting. Sub-committee chairs or interested members are welcome to attend.
URL:https://chinookna.org/event/area-service-committee-asc-2/2025-11-25/
LOCATION:Emmanuel Community Church\, 3303 28th St SE\, Calgary\, Alberta\, T2B 2Z3\, Canada
ATTACH;FMTTYPE=image/jpeg:https://chinookna.org/wp-content/uploads/2023/02/E7B1FF39-8FDE-449F-81D9-18B55AF993A9.jpeg
ORGANIZER;CN="Area Service Chair":MAILTO:asc.chair@chinookna.org
END:VEVENT
END:VCALENDAR