BEGIN:VCALENDAR
VERSION:2.0
PRODID:-//Chinook Area of Narcotics Anonymous - ECPv6.15.20//NONSGML v1.0//EN
CALSCALE:GREGORIAN
METHOD:PUBLISH
X-ORIGINAL-URL:https://chinookna.org
X-WR-CALDESC:Events for Chinook Area of Narcotics Anonymous
REFRESH-INTERVAL;VALUE=DURATION:PT1H
X-Robots-Tag:noindex
X-PUBLISHED-TTL:PT1H
BEGIN:VTIMEZONE
TZID:America/Edmonton
BEGIN:DAYLIGHT
TZOFFSETFROM:-0700
TZOFFSETTO:-0600
TZNAME:MDT
DTSTART:20240310T090000
END:DAYLIGHT
BEGIN:STANDARD
TZOFFSETFROM:-0600
TZOFFSETTO:-0700
TZNAME:MST
DTSTART:20241103T080000
END:STANDARD
BEGIN:DAYLIGHT
TZOFFSETFROM:-0700
TZOFFSETTO:-0600
TZNAME:MDT
DTSTART:20250309T090000
END:DAYLIGHT
BEGIN:STANDARD
TZOFFSETFROM:-0600
TZOFFSETTO:-0700
TZNAME:MST
DTSTART:20251102T080000
END:STANDARD
BEGIN:DAYLIGHT
TZOFFSETFROM:-0700
TZOFFSETTO:-0600
TZNAME:MDT
DTSTART:20260308T090000
END:DAYLIGHT
BEGIN:STANDARD
TZOFFSETFROM:-0600
TZOFFSETTO:-0700
TZNAME:MST
DTSTART:20261101T080000
END:STANDARD
END:VTIMEZONE
BEGIN:VEVENT
DTSTART;TZID=America/Edmonton:20251001T190000
DTEND;TZID=America/Edmonton:20251001T200000
DTSTAMP:20260420T031104
CREATED:20220805T093933Z
LAST-MODIFIED:20260304T234216Z
UID:8444-1759345200-1759348800@chinookna.org
SUMMARY:Hospitals and Institutions (H&I) Subcommittee Meeting
DESCRIPTION:Monthly hybrid meeting for the Chinook Area H&I Committee.\nZoom ID# is 837 994 8457
URL:https://chinookna.org/event/hospitals-and-institutions-subcommittee/2025-10-01/
LOCATION:Emmanuel Community Church\, 3303 28th St SE\, Calgary\, Alberta\, T2B 2Z3\, Canada
ORGANIZER;CN="H&I Chair":MAILTO:hospital.institutions@chinookna.org
END:VEVENT
BEGIN:VEVENT
DTSTART;TZID=America/Edmonton:20251003T163000
DTEND;TZID=America/Edmonton:20251005T130000
DTSTAMP:20260420T031104
CREATED:20250624T235238Z
LAST-MODIFIED:20250624T235238Z
UID:9762-1759509000-1759669200@chinookna.org
SUMMARY:Chinook Area Convention of Narcotics Anonymous - CACNA XXXIII
DESCRIPTION:The Chinook Area of NA is holding its annual convention\, bringing area members together in the spirit of fellowship and goodwill. The theme for this year’s convention is “Out of The Darkness\, Into The Light”. \nThis year’s event will feature: \n\nEnlightening speakers\nInteractive workshops\nMeetings\nEntertainment on Friday & Saturday night\nDelicious Saturday night buffet dinner and Sunday breakfast (Full package ticket holders only)\nNA Literature and cool merchandise for sale\n\nBasic tickets are priced at $40.00; Full Package tickets at $130.00. Members will also have the option to purchase Newcomer tickets or make a 7th Tradition to allow addicts who are financially challenged to participate in the convention and experience NA’s powerful message of Experience\, Strength & Hope. \nPLEASE NOTE: Ticket sales and 7th Tradition contributions must be purchased through the convention website.
URL:https://chinookna.org/event/chinook-area-convention-of-narcotics-anonymous-cacna-xxxiii/
LOCATION:Royal Hotel Calgary\, 2828 23 St NE\, Calgary\, AB\, T2E 8T4\, Canada
ORGANIZER;CN="Convention Chair":MAILTO:convention@chinookna.org
END:VEVENT
BEGIN:VEVENT
DTSTART;TZID=America/Edmonton:20251008T190000
DTEND;TZID=America/Edmonton:20251008T203000
DTSTAMP:20260420T031104
CREATED:20220805T094459Z
LAST-MODIFIED:20260304T234319Z
UID:8464-1759950000-1759955400@chinookna.org
SUMMARY:Public Relations Subcommittee
DESCRIPTION:Monthly Zoom meeting of the Public Relations (PR) Subcommittee. \nMembers may join via Zoom ID# 837 994 8457
URL:https://chinookna.org/event/public-relations-subcommittee/2025-10-08/
LOCATION:Zoom 837 994 8457\, Canada
ORGANIZER;CN="Public Relations Chair":MAILTO:public.relations@chinookna.org
END:VEVENT
BEGIN:VEVENT
DTSTART;TZID=America/Edmonton:20251011T100000
DTEND;TZID=America/Edmonton:20251011T110000
DTSTAMP:20260420T031104
CREATED:20220805T094326Z
LAST-MODIFIED:20260225T035746Z
UID:8483-1760176800-1760180400@chinookna.org
SUMMARY:Literature Subcommittee
DESCRIPTION:The Chinook Area Literature Subcommittee meets the 2nd Saturday of each month via Zoom. (Zoom ID # is 837 994 8457) \nThe committee is always looking for new members to participate\, as the reliable distribution of NA books\, pamphlets\, keytags\, medallions\, etc provides a vital service to all groups within our area.
URL:https://chinookna.org/event/literature-subcommittee/2025-10-11/
LOCATION:Alberta
ATTACH;FMTTYPE=image/jpeg:https://chinookna.org/wp-content/uploads/2022/08/NA-Literature.jpeg
ORGANIZER;CN="Literature Chair":MAILTO:asc.literature@chinookna.org
END:VEVENT
BEGIN:VEVENT
DTSTART;TZID=America/Edmonton:20251011T123000
DTEND;TZID=America/Edmonton:20251011T140000
DTSTAMP:20260420T031104
CREATED:20240717T152740Z
LAST-MODIFIED:20240717T152740Z
UID:11422-1760185800-1760191200@chinookna.org
SUMMARY:Literature Pickup Day - PLEASE CONFIRM PICKUP ARRANGEMENTS
DESCRIPTION:The Literature committee will be available this day to make arrangements for groups to pickup their literature. As Committee members may be at the Literature Depot at varying times\, group members should be sure to confirm the  specific time prior to picking up their orders. NOTE: Actual pickup hours are subject to change
URL:https://chinookna.org/event/literature-pickup-day-2/2025-10-11/
LOCATION:Alberta
ATTACH;FMTTYPE=image/png:https://chinookna.org/wp-content/uploads/2024/07/IMG_0416.png
END:VEVENT
BEGIN:VEVENT
DTSTART;TZID=America/Edmonton:20251011T123000
DTEND;TZID=America/Edmonton:20251011T140000
DTSTAMP:20260420T031104
CREATED:20250828T012710Z
LAST-MODIFIED:20260225T035220Z
UID:12387-1760185800-1760191200@chinookna.org
SUMMARY:Literature Pickup Day - PLEASE CONFIRM PICKUP ARRANGEMENTS
DESCRIPTION:The Literature committee will be available this day to make arrangements for groups to pickup their literature. As Committee members may be at the Literature Depot at varying times\, group members should be sure to confirm the  specific time prior to picking up their orders. NOTE: Actual pickup hours are subject to change.
URL:https://chinookna.org/event/literature-pickup-day-please-confirm-pickup-arrangements/2025-10-11/
LOCATION:Alberta
ATTACH;FMTTYPE=image/png:https://chinookna.org/wp-content/uploads/2024/07/IMG_0416.png
END:VEVENT
BEGIN:VEVENT
DTSTART;TZID=America/Edmonton:20251022T180000
DTEND;TZID=America/Edmonton:20251022T210000
DTSTAMP:20260420T031104
CREATED:20250903T011922Z
LAST-MODIFIED:20250903T011922Z
UID:10295-1761156000-1761166800@chinookna.org
SUMMARY:Area Service Committee (ASC)
DESCRIPTION:The main ASC meeting commences at 6:30PM on the 4th Wednesday of each month. (Excluding December) This is a hybrid meeting\, held in person at the Emmanuel Community Church and virtually on Zoom. (Zoom ID is 837 994 8457) \nThe Admin Committee\, consisting of the ASC Chair\, Vice-Chair\, Treasurer\, Secretary & Regional Committee Member (RCM) meets at 6:00PM\, prior to the main ASC meeting. Sub-committee chairs or interested members are welcome to attend.
URL:https://chinookna.org/event/area-service-committee-asc/
LOCATION:Emmanuel Community Church\, 3303 28th St SE\, Calgary\, Alberta\, T2B 2Z3\, Canada
ATTACH;FMTTYPE=image/jpeg:https://chinookna.org/wp-content/uploads/2023/02/E7B1FF39-8FDE-449F-81D9-18B55AF993A9.jpeg
ORGANIZER;CN="Area Service Chair":MAILTO:asc.chair@chinookna.org
END:VEVENT
BEGIN:VEVENT
DTSTART;TZID=America/Edmonton:20251025T123000
DTEND;TZID=America/Edmonton:20251025T140000
DTSTAMP:20260420T031104
CREATED:20250828T012710Z
LAST-MODIFIED:20260225T035220Z
UID:11404-1761395400-1761400800@chinookna.org
SUMMARY:Literature Pickup Day - PLEASE CONFIRM PICKUP ARRANGEMENTS
DESCRIPTION:The Literature committee will be available this day to make arrangements for groups to pickup their literature. As Committee members may be at the Literature Depot at varying times\, group members should be sure to confirm the  specific time prior to picking up their orders. NOTE: Actual pickup hours are subject to change.
URL:https://chinookna.org/event/literature-pickup-day-please-confirm-pickup-arrangements/2025-10-25/
LOCATION:Alberta
ATTACH;FMTTYPE=image/png:https://chinookna.org/wp-content/uploads/2024/07/IMG_0416.png
END:VEVENT
BEGIN:VEVENT
DTSTART;TZID=America/Edmonton:20251025T190000
DTEND;TZID=America/Edmonton:20251025T233000
DTSTAMP:20260420T031104
CREATED:20250922T123913Z
LAST-MODIFIED:20250922T123913Z
UID:10419-1761418800-1761435000@chinookna.org
SUMMARY:Halloween Dance Potluck
DESCRIPTION:Oct 25\, 2025\, Halloween Costume Dance\, Potluck\, prizes\, 50/50 at the Fifth Avenue Memorial United Church in Medicine Hat\, AB. The dance starts at 7 pm. Punch provided \nSee you there!
URL:https://chinookna.org/event/halloween-dance-potluck-2/
LOCATION:Fifth Avenue Memorial United Church\, 476 - 4 St SE\, Medicine Hat\, Alberta\, T1A 0K9\, Canada
END:VEVENT
END:VCALENDAR