BEGIN:VCALENDAR
VERSION:2.0
PRODID:-//Chinook Area of Narcotics Anonymous - ECPv6.15.20//NONSGML v1.0//EN
CALSCALE:GREGORIAN
METHOD:PUBLISH
X-WR-CALNAME:Chinook Area of Narcotics Anonymous
X-ORIGINAL-URL:https://chinookna.org
X-WR-CALDESC:Events for Chinook Area of Narcotics Anonymous
REFRESH-INTERVAL;VALUE=DURATION:PT1H
X-Robots-Tag:noindex
X-PUBLISHED-TTL:PT1H
BEGIN:VTIMEZONE
TZID:America/Edmonton
BEGIN:DAYLIGHT
TZOFFSETFROM:-0700
TZOFFSETTO:-0600
TZNAME:MDT
DTSTART:20240310T090000
END:DAYLIGHT
BEGIN:STANDARD
TZOFFSETFROM:-0600
TZOFFSETTO:-0700
TZNAME:MST
DTSTART:20241103T080000
END:STANDARD
BEGIN:DAYLIGHT
TZOFFSETFROM:-0700
TZOFFSETTO:-0600
TZNAME:MDT
DTSTART:20250309T090000
END:DAYLIGHT
BEGIN:STANDARD
TZOFFSETFROM:-0600
TZOFFSETTO:-0700
TZNAME:MST
DTSTART:20251102T080000
END:STANDARD
BEGIN:DAYLIGHT
TZOFFSETFROM:-0700
TZOFFSETTO:-0600
TZNAME:MDT
DTSTART:20260308T090000
END:DAYLIGHT
BEGIN:STANDARD
TZOFFSETFROM:-0600
TZOFFSETTO:-0700
TZNAME:MST
DTSTART:20261101T080000
END:STANDARD
END:VTIMEZONE
BEGIN:VEVENT
DTSTART;TZID=America/Edmonton:20250622T120000
DTEND;TZID=America/Edmonton:20250622T133000
DTSTAMP:20260420T172413
CREATED:20250608T222335Z
LAST-MODIFIED:20250608T222335Z
UID:9591-1750593600-1750599000@chinookna.org
SUMMARY:Hospitals & Institutions (H&I) Orientation
DESCRIPTION:The Hospitals and Institutions subcommittee is hosting an Orientation on Sunday June 22nd from 12:00 noon to 1:30PM at the downtown Central Library\, Meeting Room 3-17A. If you’re interested in sharing your experience\, strength\, and hope at any of the facilities we currently attend\, come and join us for this information session.
URL:https://chinookna.org/event/hospitals-institutions-hi-orientation/
LOCATION:Central Library\, 800 3rd Street Southeast\, Calgary\, Alberta\, T2G 2E7\, Canada
END:VEVENT
BEGIN:VEVENT
DTSTART;TZID=America/Edmonton:20250622T160000
DTEND;TZID=America/Edmonton:20250622T173000
DTSTAMP:20260420T172413
CREATED:20250617T025910Z
LAST-MODIFIED:20250620T015628Z
UID:9672-1750608000-1750613400@chinookna.org
SUMMARY:CACNA XXXIII Committee meeting
DESCRIPTION:The Chinook Area Convention Committee will be meeting over Zoom; ID # is 837 994 8457\nPlease feel free to join us.
URL:https://chinookna.org/event/cacna-xxxiii-committee-meeting/
LOCATION:Zoom 837 994 8457\, Canada
ATTACH;FMTTYPE=image/png:https://chinookna.org/wp-content/uploads/2025/06/Copy-of-CACNA-XXXIII-2025-Logo-no-background.png
ORGANIZER;CN="Convention Chair":MAILTO:convention@chinookna.org
END:VEVENT
BEGIN:VEVENT
DTSTART;TZID=America/Edmonton:20250625T190000
DTEND;TZID=America/Edmonton:20250625T203000
DTSTAMP:20260420T172413
CREATED:20250613T142747Z
LAST-MODIFIED:20250613T142747Z
UID:9622-1750878000-1750883400@chinookna.org
SUMMARY:Rob B takes 31 years
DESCRIPTION:Stepping Into Recovery
URL:https://chinookna.org/event/rob-b-takes-31-years/
LOCATION:Southwood Community Center\, 11 Sackville Drive S.W.\, Calgary\, AB\, T2W 0W3\, Canada
ORGANIZER;CN="web servant":MAILTO:glassdavid56@gmail.com
END:VEVENT
BEGIN:VEVENT
DTSTART;TZID=America/Edmonton:20250628T160000
DTEND;TZID=America/Edmonton:20250628T210000
DTSTAMP:20260420T172413
CREATED:20250519T150058Z
LAST-MODIFIED:20250519T150058Z
UID:9382-1751126400-1751144400@chinookna.org
SUMMARY:Summer Family BBQ (BYOM) & Water Park Fun
DESCRIPTION:All NA members and their families are welcome to attend a summer bbq (bring your own meat) and splash around in the water park.\nEvent is potluck\, with a meeting after we eat.\nEvent is at Strathcona Island Park in Medicine Hat.\nBring a towel\, your favorite chair\, and a potluck item to share.\nSee you there!!
URL:https://chinookna.org/event/summer-family-bbq-byom-water-park-fun/
LOCATION:Strathcona Island Park\, 210 - 5 St. SE\, Medicine Hat\, Alberta\, T1A 7X4\, Canada
END:VEVENT
END:VCALENDAR