BEGIN:VCALENDAR
VERSION:2.0
PRODID:-//Chinook Area of Narcotics Anonymous - ECPv6.15.20//NONSGML v1.0//EN
CALSCALE:GREGORIAN
METHOD:PUBLISH
X-WR-CALNAME:Chinook Area of Narcotics Anonymous
X-ORIGINAL-URL:https://chinookna.org
X-WR-CALDESC:Events for Chinook Area of Narcotics Anonymous
REFRESH-INTERVAL;VALUE=DURATION:PT1H
X-Robots-Tag:noindex
X-PUBLISHED-TTL:PT1H
BEGIN:VTIMEZONE
TZID:America/Edmonton
BEGIN:DAYLIGHT
TZOFFSETFROM:-0700
TZOFFSETTO:-0600
TZNAME:MDT
DTSTART:20240310T090000
END:DAYLIGHT
BEGIN:STANDARD
TZOFFSETFROM:-0600
TZOFFSETTO:-0700
TZNAME:MST
DTSTART:20241103T080000
END:STANDARD
BEGIN:DAYLIGHT
TZOFFSETFROM:-0700
TZOFFSETTO:-0600
TZNAME:MDT
DTSTART:20250309T090000
END:DAYLIGHT
BEGIN:STANDARD
TZOFFSETFROM:-0600
TZOFFSETTO:-0700
TZNAME:MST
DTSTART:20251102T080000
END:STANDARD
BEGIN:DAYLIGHT
TZOFFSETFROM:-0700
TZOFFSETTO:-0600
TZNAME:MDT
DTSTART:20260308T090000
END:DAYLIGHT
BEGIN:STANDARD
TZOFFSETFROM:-0600
TZOFFSETTO:-0700
TZNAME:MST
DTSTART:20261101T080000
END:STANDARD
END:VTIMEZONE
BEGIN:VEVENT
DTSTART;TZID=America/Edmonton:20250915T183000
DTEND;TZID=America/Edmonton:20250915T200000
DTSTAMP:20260421T153106
CREATED:20250828T014332Z
LAST-MODIFIED:20250828T014415Z
UID:10244-1757961000-1757966400@chinookna.org
SUMMARY:CACNA XXXIII Committee Meeting
DESCRIPTION:Bi-weekly meeting of the Chinook NA Convention Committee.
URL:https://chinookna.org/event/cacna-xxxiii-committee-meeting-2/
ATTACH;FMTTYPE=image/png:https://chinookna.org/wp-content/uploads/2025/08/CACNA-XXXIII-2025-Logo-1.png
END:VEVENT
BEGIN:VEVENT
DTSTART;TZID=America/Edmonton:20250924T180000
DTEND;TZID=America/Edmonton:20250924T210000
DTSTAMP:20260421T153106
CREATED:20221013T080708Z
LAST-MODIFIED:20250903T011501Z
UID:10111-1758736800-1758747600@chinookna.org
SUMMARY:Area Service Committee (ASC)
DESCRIPTION:The main ASC meeting commences at 6:30PM on the 4th Wednesday of each month. (Excluding December) This is a hybrid meeting\, held in person at the Emmanuel Community Church and virtually on Zoom. (Zoom ID is 837 994 8457) \nThe Admin Committee\, consisting of the ASC Chair\, Vice-Chair\, Treasurer\, Secretary & Regional Committee Member (RCM) meets at 6:00PM\, prior to the main ASC meeting. Sub-committee chairs or interested members are welcome to attend.
URL:https://chinookna.org/event/area-service-committee-asc-2027-08-23/
LOCATION:Emmanuel Community Church\, 3303 28th St SE\, Calgary\, Alberta\, T2B 2Z3\, Canada
ATTACH;FMTTYPE=image/jpeg:https://chinookna.org/wp-content/uploads/2023/02/E7B1FF39-8FDE-449F-81D9-18B55AF993A9.jpeg
ORGANIZER;CN="Area Service Chair":MAILTO:asc.chair@chinookna.org
END:VEVENT
BEGIN:VEVENT
DTSTART;TZID=America/Edmonton:20250927T123000
DTEND;TZID=America/Edmonton:20250927T140000
DTSTAMP:20260421T153106
CREATED:20250828T012710Z
LAST-MODIFIED:20260225T035220Z
UID:10218-1758976200-1758981600@chinookna.org
SUMMARY:Literature Pickup Day - PLEASE CONFIRM PICKUP ARRANGEMENTS
DESCRIPTION:The Literature committee will be available this day to make arrangements for groups to pickup their literature. As Committee members may be at the Literature Depot at varying times\, group members should be sure to confirm the  specific time prior to picking up their orders. NOTE: Actual pickup hours are subject to change.
URL:https://chinookna.org/event/literature-pickup-day-please-confirm-pickup-arrangements/2025-09-27/
ATTACH;FMTTYPE=image/png:https://chinookna.org/wp-content/uploads/2024/07/IMG_0416.png
END:VEVENT
END:VCALENDAR