BEGIN:VCALENDAR
VERSION:2.0
PRODID:-//Chinook Area of Narcotics Anonymous - ECPv6.15.20//NONSGML v1.0//EN
CALSCALE:GREGORIAN
METHOD:PUBLISH
X-ORIGINAL-URL:https://chinookna.org
X-WR-CALDESC:Events for Chinook Area of Narcotics Anonymous
REFRESH-INTERVAL;VALUE=DURATION:PT1H
X-Robots-Tag:noindex
X-PUBLISHED-TTL:PT1H
BEGIN:VTIMEZONE
TZID:America/Edmonton
BEGIN:DAYLIGHT
TZOFFSETFROM:-0700
TZOFFSETTO:-0600
TZNAME:MDT
DTSTART:20240310T090000
END:DAYLIGHT
BEGIN:STANDARD
TZOFFSETFROM:-0600
TZOFFSETTO:-0700
TZNAME:MST
DTSTART:20241103T080000
END:STANDARD
BEGIN:DAYLIGHT
TZOFFSETFROM:-0700
TZOFFSETTO:-0600
TZNAME:MDT
DTSTART:20250309T090000
END:DAYLIGHT
BEGIN:STANDARD
TZOFFSETFROM:-0600
TZOFFSETTO:-0700
TZNAME:MST
DTSTART:20251102T080000
END:STANDARD
BEGIN:DAYLIGHT
TZOFFSETFROM:-0700
TZOFFSETTO:-0600
TZNAME:MDT
DTSTART:20260308T090000
END:DAYLIGHT
BEGIN:STANDARD
TZOFFSETFROM:-0600
TZOFFSETTO:-0700
TZNAME:MST
DTSTART:20261101T080000
END:STANDARD
END:VTIMEZONE
BEGIN:VEVENT
DTSTART;TZID=America/Edmonton:20251227T073000
DTEND;TZID=America/Edmonton:20251227T080000
DTSTAMP:20260421T080137
CREATED:20251126T211402Z
LAST-MODIFIED:20251202T182057Z
UID:11038-1766820600-1766822400@chinookna.org
SUMMARY:Serenity at Sunrise
DESCRIPTION:A Morning Meditation Gathering Inspired by Just for Today \n\nOrganized in cooperation with the Al-Sask Region and the Chinook Area Convention Committee\n\nStarting December 1\, 2025\nEvery day · 7:30 to 7:50AM MST · Online \nWe’ll read Just for Today together and then share 10 peaceful minutes of silence — connecting with the god of our understanding\, with each other\, and with a new beginning every morning. \nEveryone is welcome.\nYou do not have to join the challenge to meditate with us.\n7th tradition will be collected to support the ARCNA/CACNA 2026 Convention – May 15\, 2026 \nThe Serenity at Sunrise Challenge \nDec 1\, 2025 → May 15\, 2026 \nFor $20\, members may enter the challenge and track their attendance at our morning meditations. \nWhoever attends the most wins: \nInner peace: Delivered directly from a loving Higher Power; shipping times may vary\, influenced by practicing principles in all our affairs; dependent on step work; subject to life on life’s terms; non-refundable and non-transferable. \nA special prize: Presented at the ARCNA/CACNA 2026 Convention — May 15\, 2026 \nAll proceeds support ARCNA/CACNA 2026 through the 7th Tradition. \nTo Enter the Challenge:\nSend $20 to: conv.treasurer@chinookna.org\nInclude your first name + last initial\, along with the word ‘meditation’ in the message. \n“I can live for a moment\, and the moment is now.”\n— Just for Today: Daily Meditations for Recovering Addicts\, Narcotics Anonymous
URL:https://chinookna.org/event/serenity-at-sunrise/2025-12-27/
LOCATION:Zoom 837 994 8457\, Canada
ATTACH;FMTTYPE=image/jpeg:https://chinookna.org/wp-content/uploads/2025/11/Serenity-at-Sunrise-V7a.jpg
END:VEVENT
BEGIN:VEVENT
DTSTART;TZID=America/Edmonton:20251227T123000
DTEND;TZID=America/Edmonton:20251227T140000
DTSTAMP:20260421T080137
CREATED:20250828T012710Z
LAST-MODIFIED:20260225T035220Z
UID:11406-1766838600-1766844000@chinookna.org
SUMMARY:Literature Pickup Day - PLEASE CONFIRM PICKUP ARRANGEMENTS
DESCRIPTION:The Literature committee will be available this day to make arrangements for groups to pickup their literature. As Committee members may be at the Literature Depot at varying times\, group members should be sure to confirm the  specific time prior to picking up their orders. NOTE: Actual pickup hours are subject to change.
URL:https://chinookna.org/event/literature-pickup-day-please-confirm-pickup-arrangements/2025-12-27/
LOCATION:Alberta
ATTACH;FMTTYPE=image/png:https://chinookna.org/wp-content/uploads/2024/07/IMG_0416.png
END:VEVENT
END:VCALENDAR