BEGIN:VCALENDAR
VERSION:2.0
PRODID:-//Chinook Area of Narcotics Anonymous - ECPv6.15.20//NONSGML v1.0//EN
CALSCALE:GREGORIAN
METHOD:PUBLISH
X-WR-CALNAME:Chinook Area of Narcotics Anonymous
X-ORIGINAL-URL:https://chinookna.org
X-WR-CALDESC:Events for Chinook Area of Narcotics Anonymous
REFRESH-INTERVAL;VALUE=DURATION:PT1H
X-Robots-Tag:noindex
X-PUBLISHED-TTL:PT1H
BEGIN:VTIMEZONE
TZID:America/Edmonton
BEGIN:DAYLIGHT
TZOFFSETFROM:-0700
TZOFFSETTO:-0600
TZNAME:MDT
DTSTART:20240310T090000
END:DAYLIGHT
BEGIN:STANDARD
TZOFFSETFROM:-0600
TZOFFSETTO:-0700
TZNAME:MST
DTSTART:20241103T080000
END:STANDARD
BEGIN:DAYLIGHT
TZOFFSETFROM:-0700
TZOFFSETTO:-0600
TZNAME:MDT
DTSTART:20250309T090000
END:DAYLIGHT
BEGIN:STANDARD
TZOFFSETFROM:-0600
TZOFFSETTO:-0700
TZNAME:MST
DTSTART:20251102T080000
END:STANDARD
BEGIN:DAYLIGHT
TZOFFSETFROM:-0700
TZOFFSETTO:-0600
TZNAME:MDT
DTSTART:20260308T090000
END:DAYLIGHT
BEGIN:STANDARD
TZOFFSETFROM:-0600
TZOFFSETTO:-0700
TZNAME:MST
DTSTART:20261101T080000
END:STANDARD
END:VTIMEZONE
BEGIN:VEVENT
DTSTART;TZID=America/Edmonton:20251224T120000
DTEND;TZID=America/Edmonton:20251226T170000
DTSTAMP:20260421T061813
CREATED:20251206T002302Z
LAST-MODIFIED:20251222T220646Z
UID:11715-1766577600-1766768400@chinookna.org
SUMMARY:Christmas Marathon Meeting
DESCRIPTION:The Chinook Area Activities Committee is organizing a Xmas Marathon Meeting as St. Giles Presbyterian Church in NW Calgary. Volunteers are needed to chair meetings. \nSee the poster for more details.
URL:https://chinookna.org/event/christmas-marathon-meeting/
LOCATION:St. Giles Presbyterian Church\, 1102 23 Ave NW\, Calgary\, AB\, T2M 1T7\, Canada
ORGANIZER;CN="Activities Chair":MAILTO:asc.events@chinookna.org
END:VEVENT
END:VCALENDAR